BEGIN:VCALENDAR
VERSION:2.0
PRODID:-//3fiori Brixen - ECPv6.15.20//NONSGML v1.0//EN
CALSCALE:GREGORIAN
METHOD:PUBLISH
X-ORIGINAL-URL:https://3fiori.com
X-WR-CALDESC:Veranstaltungen für 3fiori Brixen
REFRESH-INTERVAL;VALUE=DURATION:PT1H
X-Robots-Tag:noindex
X-PUBLISHED-TTL:PT1H
BEGIN:VTIMEZONE
TZID:UTC
BEGIN:STANDARD
TZOFFSETFROM:+0000
TZOFFSETTO:+0000
TZNAME:UTC
DTSTART:20160101T000000
END:STANDARD
END:VTIMEZONE
BEGIN:VEVENT
DTSTART;TZID=UTC:20170421T210000
DTEND;TZID=UTC:20170421T230000
DTSTAMP:20260421T145220
CREATED:20170420T234240Z
LAST-MODIFIED:20170426T013426Z
UID:185-1492808400-1492815600@3fiori.com
SUMMARY:Hubert Dorigatti - Down Home Blues
DESCRIPTION:Nach unterschiedlichen Eigenprojekten wie der Band ?Bayou Side?\, einem Duoprojekt zu moderner Volksmusik und dem k?rzlich angelaufenen Bob Dylan Tribute Projekt gemeinsam mit der S?ngerin Laura Willeit entschloss sich Dorigatti nun doch zur R?ckkehr zu seinen musikalischen Wurzeln\, dorthin\, wo er sich am wohlsten gef?hlt hatte: Im Blues.\nDer Stil des traditionellen S?dstaatenblues der U.S.A. mit musikalischen Vorbildern wie Bill Broonzy\, Robert Johnson oder Lightnin Hopkins steht auch f?r jene musikalische Tradition\, in die sich auch Dorigatti mit seinen neuen musikalischen Kompositionen einreiht: Virtuoses Ragtime Picking kombiniert Dorigatti in seinen Eigenkompositionen auf der Akustikgitarre mit Einfl?ssen aus Country und Folk\, ohne dabei seinen eigenen Stil zu verlieren. Der Mann mit Bart\, Charme und der rauchigen Stimme\, die genauso gut aus New Orleans kommen k?nnte\, ist Solo mit Harp und Stompbox unterwegs und verw?hnt das Publikum bei seinen Auftritten auf Festivals und in kleinen famili?ren Konzerten neben Eigenkompositionen ab und zu auch mit einem Standard. K?rzlich gewann der urige Blueskomponist aus den Bergen S?dtirols die renommierte IBC Blues Challenge als bester italienischer Bluesmusiker. Damit ist quasi nicht nur Dorigattis ureigenste musikalische Identit?t belegt\, sondern auch\, dass die Berge ein mindestens genauso gutes zu Hause f?r den Blues abgeben wie das Mississippi-Delta.
URL:https://3fiori.com/event/hubert-dorigatti-down-home-blues/
LOCATION:B?ckergasse 3\, Brixen\, BZ\, 39042
ATTACH;FMTTYPE=image/jpeg:https://3fiori.com/wp-content/uploads/17022333_1724119347605640_2466575451664028366_n.jpg
END:VEVENT
END:VCALENDAR