BEGIN:VCALENDAR
VERSION:2.0
PRODID:-//3fiori Brixen - ECPv6.15.20//NONSGML v1.0//EN
CALSCALE:GREGORIAN
METHOD:PUBLISH
X-WR-CALNAME:3fiori Brixen
X-ORIGINAL-URL:https://3fiori.com
X-WR-CALDESC:Veranstaltungen für 3fiori Brixen
REFRESH-INTERVAL;VALUE=DURATION:PT1H
X-Robots-Tag:noindex
X-PUBLISHED-TTL:PT1H
BEGIN:VTIMEZONE
TZID:UTC
BEGIN:STANDARD
TZOFFSETFROM:+0000
TZOFFSETTO:+0000
TZNAME:UTC
DTSTART:20160101T000000
END:STANDARD
END:VTIMEZONE
BEGIN:VEVENT
DTSTART;VALUE=DATE:20170424
DTEND;VALUE=DATE:20170425
DTSTAMP:20260421T145048
CREATED:20170410T152500Z
LAST-MODIFIED:20170426T013410Z
UID:82-1492992000-1493078399@3fiori.com
SUMMARY:Bierverkostung mit Markus Hoppe
DESCRIPTION:Kreativ\, jung und handgmacht ? mit diesen drei Worten kann man Hoppebr?u ganz gut beschreiben. In der Garage seiner Eltern fing f?r Markus Hoppe alles an? heute braucht er schon mehr Platz um den Durst seiner Bierfans zu stillen. Seine Motivation: leidenschaftlicher Einsatz f?r die bayerische Biervielfalt; das Ergebnis: aufregende und charaktervolle Biere die Spa? beim Trinken machen!\nTeilnahmegeb?hr ? 15\,- pro Person\nVerbindliche Anmeldung unter info@3fiori.com oder vor Ort.\n(Beschr?nkte Teilnehmerzahl)
URL:https://3fiori.com/event/bierverkostung-mit-markus-hoppe/
LOCATION:Italien
ATTACH;FMTTYPE=image/jpeg:https://3fiori.com/wp-content/uploads/2017/04/17361685_1751684551515786_5767800611936548577_n.jpg
END:VEVENT
END:VCALENDAR