BEGIN:VCALENDAR
VERSION:2.0
PRODID:-//3fiori Brixen - ECPv6.15.20//NONSGML v1.0//EN
CALSCALE:GREGORIAN
METHOD:PUBLISH
X-WR-CALNAME:3fiori Brixen
X-ORIGINAL-URL:https://3fiori.com
X-WR-CALDESC:Veranstaltungen für 3fiori Brixen
REFRESH-INTERVAL;VALUE=DURATION:PT1H
X-Robots-Tag:noindex
X-PUBLISHED-TTL:PT1H
BEGIN:VTIMEZONE
TZID:Europe/Rome
BEGIN:DAYLIGHT
TZOFFSETFROM:+0100
TZOFFSETTO:+0200
TZNAME:CEST
DTSTART:20160327T010000
END:DAYLIGHT
BEGIN:STANDARD
TZOFFSETFROM:+0200
TZOFFSETTO:+0100
TZNAME:CET
DTSTART:20161030T010000
END:STANDARD
BEGIN:DAYLIGHT
TZOFFSETFROM:+0100
TZOFFSETTO:+0200
TZNAME:CEST
DTSTART:20170326T010000
END:DAYLIGHT
BEGIN:STANDARD
TZOFFSETFROM:+0200
TZOFFSETTO:+0100
TZNAME:CET
DTSTART:20171029T010000
END:STANDARD
BEGIN:DAYLIGHT
TZOFFSETFROM:+0100
TZOFFSETTO:+0200
TZNAME:CEST
DTSTART:20180325T010000
END:DAYLIGHT
BEGIN:STANDARD
TZOFFSETFROM:+0200
TZOFFSETTO:+0100
TZNAME:CET
DTSTART:20181028T010000
END:STANDARD
END:VTIMEZONE
BEGIN:VEVENT
DTSTART;TZID=Europe/Rome:20170602T203000
DTEND;TZID=Europe/Rome:20170602T230000
DTSTAMP:20260419T175116
CREATED:20170427T152705Z
LAST-MODIFIED:20170427T152858Z
UID:278-1496435400-1496444400@3fiori.com
SUMMARY:The Lads - Acoustic Session
DESCRIPTION:Acoustic/acid/progressive Rock – 100% made in S?dtirol.  \nDie Lads starten in der neuen Konzertsaison mit Vollgas durch und arrangieren ihr brandneues Album Salvage f?r einige akustische Events in S?dtirol. \nDie vielseitige Mischung aus unterschiedlichsten musikalischen Einfl?ssen und viel Freundschaft sorgen f?r einzigartige Momente auf der B?hne und Emotionen bei den Zuh?rern. Was die Lads besonders macht\, ist ein allesamt musikalisches Gesp?r\, wessen Fundament von den drei Colombi Br?dern (Gesang\, Gitarre\, Schlagzeug\, Geige) gelegt und von den Freunden Gege (Bass) und Raferio (Gitarre) gefestigt wird.
URL:https://3fiori.com/event/the-lads-acoustic-session/
LOCATION:B?ckergasse 3\, Brixen\, BZ\, 39042
ATTACH;FMTTYPE=image/jpeg:https://3fiori.com/wp-content/uploads/The-Lads-1.jpg
ORGANIZER;CN="3fiori Brixen":MAILTO:info@3fiori.com
END:VEVENT
END:VCALENDAR