BEGIN:VCALENDAR
VERSION:2.0
PRODID:-//3fiori Brixen - ECPv6.15.20//NONSGML v1.0//EN
CALSCALE:GREGORIAN
METHOD:PUBLISH
X-ORIGINAL-URL:https://3fiori.com
X-WR-CALDESC:Veranstaltungen für 3fiori Brixen
REFRESH-INTERVAL;VALUE=DURATION:PT1H
X-Robots-Tag:noindex
X-PUBLISHED-TTL:PT1H
BEGIN:VTIMEZONE
TZID:Europe/Rome
BEGIN:DAYLIGHT
TZOFFSETFROM:+0100
TZOFFSETTO:+0200
TZNAME:CEST
DTSTART:20160327T010000
END:DAYLIGHT
BEGIN:STANDARD
TZOFFSETFROM:+0200
TZOFFSETTO:+0100
TZNAME:CET
DTSTART:20161030T010000
END:STANDARD
BEGIN:DAYLIGHT
TZOFFSETFROM:+0100
TZOFFSETTO:+0200
TZNAME:CEST
DTSTART:20170326T010000
END:DAYLIGHT
BEGIN:STANDARD
TZOFFSETFROM:+0200
TZOFFSETTO:+0100
TZNAME:CET
DTSTART:20171029T010000
END:STANDARD
BEGIN:DAYLIGHT
TZOFFSETFROM:+0100
TZOFFSETTO:+0200
TZNAME:CEST
DTSTART:20180325T010000
END:DAYLIGHT
BEGIN:STANDARD
TZOFFSETFROM:+0200
TZOFFSETTO:+0100
TZNAME:CET
DTSTART:20181028T010000
END:STANDARD
END:VTIMEZONE
BEGIN:VEVENT
DTSTART;TZID=Europe/Rome:20170617T113000
DTEND;TZID=Europe/Rome:20170617T133000
DTSTAMP:20260419T161054
CREATED:20170605T143246Z
LAST-MODIFIED:20170605T143246Z
UID:305-1497699000-1497706200@3fiori.com
SUMMARY:5 Jahre 3fiori - Wei?wurstbrunch mit Trio "e-volution"
DESCRIPTION:Wir feiern 5 Jahre 3fiori bar caf? jazzkeller!!! \nZum Wei?wurstbrunch mit Batzen Wei?bier?vom Fass spielt das Trio „e-volution“ \ne-volution \njazz hat nicht nur mit musik zu tun\, es dr?ckt einen lebensstil aus der sich in der musik auslebt. andauernde e-volution und ent-wicklung ist eines seiner wichtigsten merkmale. e-volution bringt die eigene version auf die b?hne. die drei stellen eigenes repertoire vor\, beschreiben lebensgeschichten\, geschichten aus jazz eben. \nmusikalisch betrachtet bewegt sich das aus gitarre\, kontrabass und schlagzeug bestehende trio zwischen den akustischen stimmungen einer ovation gitarre und den elektronischen sounds einer phantastischen traumwelt. l?ngs dieser f?deln sich die st?cke auf wie an einer perlenkette. \nLuis Z?schg guitar\, efx\nChristoph Z?schg drums\, percussions\nNorbert Dalsass bass\, efx\nspecial guest: surprise! \n?
URL:https://3fiori.com/event/5-jahre-3fiori-weisswurstbrunch-mit-trio-e-volution/
LOCATION:B?ckergasse 3\, Brixen\, BZ\, 39042
ATTACH;FMTTYPE=image/jpeg:https://3fiori.com/wp-content/uploads/e-volution-3.jpg
ORGANIZER;CN="3fiori Brixen":MAILTO:info@3fiori.com
END:VEVENT
END:VCALENDAR