BEGIN:VCALENDAR
VERSION:2.0
PRODID:-//3fiori Brixen - ECPv6.15.20//NONSGML v1.0//EN
CALSCALE:GREGORIAN
METHOD:PUBLISH
X-ORIGINAL-URL:https://3fiori.com
X-WR-CALDESC:Veranstaltungen für 3fiori Brixen
REFRESH-INTERVAL;VALUE=DURATION:PT1H
X-Robots-Tag:noindex
X-PUBLISHED-TTL:PT1H
BEGIN:VTIMEZONE
TZID:Europe/Rome
BEGIN:DAYLIGHT
TZOFFSETFROM:+0100
TZOFFSETTO:+0200
TZNAME:CEST
DTSTART:20160327T010000
END:DAYLIGHT
BEGIN:STANDARD
TZOFFSETFROM:+0200
TZOFFSETTO:+0100
TZNAME:CET
DTSTART:20161030T010000
END:STANDARD
BEGIN:DAYLIGHT
TZOFFSETFROM:+0100
TZOFFSETTO:+0200
TZNAME:CEST
DTSTART:20170326T010000
END:DAYLIGHT
BEGIN:STANDARD
TZOFFSETFROM:+0200
TZOFFSETTO:+0100
TZNAME:CET
DTSTART:20171029T010000
END:STANDARD
BEGIN:DAYLIGHT
TZOFFSETFROM:+0100
TZOFFSETTO:+0200
TZNAME:CEST
DTSTART:20180325T010000
END:DAYLIGHT
BEGIN:STANDARD
TZOFFSETFROM:+0200
TZOFFSETTO:+0100
TZNAME:CET
DTSTART:20181028T010000
END:STANDARD
END:VTIMEZONE
BEGIN:VEVENT
DTSTART;TZID=Europe/Rome:20170623T210000
DTEND;TZID=Europe/Rome:20170623T230000
DTSTAMP:20260419T162259
CREATED:20170507T192135Z
LAST-MODIFIED:20170507T192340Z
UID:288-1498251600-1498258800@3fiori.com
SUMMARY:Sonnwendfeier mit "Kultrum"
DESCRIPTION:Ein energiegeladener Mix aus mittelalterlichem Folk; (irisch\, franz?sisch und englisch) s?dl?ndischen Rhythmen (Tarantella\, Pizzica) und vielen Eigenkompositionen\, und dabei immer bem?ht dem typischen Kultrum-Sound treu zu bleiben. \nDie Band:\nHelmuth Giovanett: Percussion\, Schlagzeug\nClaudia: Gesang\nLaura Gasperi: Akkordeon\, Gesang\nSigo Urschu: Gitarre\nUwe Maier: Dudelsack\, Fl?ten\nRupert Fischer: Percussion\, Tamburello\, Maultrommel\nRobert Mitterrutzner: Didgeridoo\, small Percussions\, Bass\nMartin Bertolin: Technik
URL:https://3fiori.com/event/sonnwendfeier-mit-kultrum/
LOCATION:B?ckergasse 3\, Brixen\, BZ\, 39042
ATTACH;FMTTYPE=image/jpeg:https://3fiori.com/wp-content/uploads/Scan-Kultrum.jpg
ORGANIZER;CN="3fiori Brixen":MAILTO:info@3fiori.com
END:VEVENT
END:VCALENDAR