BEGIN:VCALENDAR
VERSION:2.0
PRODID:-//3fiori Brixen - ECPv6.15.20//NONSGML v1.0//EN
CALSCALE:GREGORIAN
METHOD:PUBLISH
X-WR-CALNAME:3fiori Brixen
X-ORIGINAL-URL:https://3fiori.com
X-WR-CALDESC:Veranstaltungen für 3fiori Brixen
REFRESH-INTERVAL;VALUE=DURATION:PT1H
X-Robots-Tag:noindex
X-PUBLISHED-TTL:PT1H
BEGIN:VTIMEZONE
TZID:Europe/Rome
BEGIN:DAYLIGHT
TZOFFSETFROM:+0100
TZOFFSETTO:+0200
TZNAME:CEST
DTSTART:20160327T010000
END:DAYLIGHT
BEGIN:STANDARD
TZOFFSETFROM:+0200
TZOFFSETTO:+0100
TZNAME:CET
DTSTART:20161030T010000
END:STANDARD
BEGIN:DAYLIGHT
TZOFFSETFROM:+0100
TZOFFSETTO:+0200
TZNAME:CEST
DTSTART:20170326T010000
END:DAYLIGHT
BEGIN:STANDARD
TZOFFSETFROM:+0200
TZOFFSETTO:+0100
TZNAME:CET
DTSTART:20171029T010000
END:STANDARD
BEGIN:DAYLIGHT
TZOFFSETFROM:+0100
TZOFFSETTO:+0200
TZNAME:CEST
DTSTART:20180325T010000
END:DAYLIGHT
BEGIN:STANDARD
TZOFFSETFROM:+0200
TZOFFSETTO:+0100
TZNAME:CET
DTSTART:20181028T010000
END:STANDARD
END:VTIMEZONE
BEGIN:VEVENT
DTSTART;TZID=Europe/Rome:20170817T080000
DTEND;TZID=Europe/Rome:20170817T170000
DTSTAMP:20260419T142446
CREATED:20170611T170243Z
LAST-MODIFIED:20170611T170243Z
UID:327-1502956800-1502989200@3fiori.com
SUMMARY:TriOl? - Brixner Sommeremotionen
DESCRIPTION:Am 9.12.2012 haben Stefan\, Hanspeter und Wolfgang zusammengefunden und den?Entschluss gefasst\, ihre musikalischen Erfahrungen in der Gruppe TriOl? zu einer?geballten Qualit?t und Finesse heranwachsen zu lassen.?Alle drei haben in verschiedensten Formationen und Musikstilen jahrzehntelange?Entwicklung?genossen und lassen nun\, jeder auf seine spezielle Aufgabe konzentriert\,?die Oberkrainer Polka zum Swing Manouche werden\, den Tiroler L?ndler sich zum?Valse Musette entwickeln und den gemu?tlichen Boarischen in einen Tango Argentino?mu?nden. \nLassen sie sich fesseln von den slawisch\, melancholisch anmutenden Melodien\, um?kurz darauf in ein temperamentgeladenes\, an den Karneval von Rio erinnerndes?Feuerwerk der Musik zu erleben.\nAlle Stu?cke aus dem Repertoire von TriOl? stammen aus der Feder des?Akkordeonisten Stefan Geier\, das dem Ganzen noch die n?tige Prise an heimischer?Authentizit?t verleiht. \nBesetzung: \nHanspeter Nocker\, Gitarre / Gesang\nWolfgang Winkler\, E-Bass / Gesang\nStefan Geier\, Akkordeon / Gesang
URL:https://3fiori.com/event/triole-brixner-sommeremotionen/
LOCATION:B?ckergasse 3\, Brixen\, BZ\, 39042
ATTACH;FMTTYPE=image/jpeg:https://3fiori.com/wp-content/uploads/Triole-Bild-1000x.jpg
ORGANIZER;CN="3fiori Brixen":MAILTO:info@3fiori.com
END:VEVENT
END:VCALENDAR